BEGIN:VCALENDAR
PRODID:-//SINGPromos.com//NONSGML v1.0//EN
VERSION:2.0
CALSCALE:GREGORIAN
METHOD:PUBLISH
X-WR-CALNAME:SINGPromos.com
X-ORIGINAL-URL:http://singpromos.com
X-WR-CALDESC:Events for SINGPromos.com
BEGIN:VEVENT
DTSTART:20230803T000000
DTEND:20230809T235900
DTSTAMP:20260424T032419
CREATED:20230803T171239
LAST-MODIFIED:20230803T174707
UID:269354@http://singpromos.com
SUMMARY:Cold Storage selling Haagen-Dazs ice cream tubs at $8.33 each when you buy three till 9 Aug 2023
DESCRIPTION:Time to stock up on your favourite ice cream with Cold Storage's latest promotion. For more information, visit [ http://singpromos.com/dining-restaurants-food/cold-storage-selling-haagen-dazs-ice-cream-tubs-at-8-33-each-when-you-buy-three-till-9-aug-2023-269354/ ]. 
LOCATION:
URL:http://singpromos.com/dining-restaurants-food/cold-storage-selling-haagen-dazs-ice-cream-tubs-at-8-33-each-when-you-buy-three-till-9-aug-2023-269354/
END:VEVENT
END:VCALENDAR