BEGIN:VCALENDAR
PRODID:-//SINGPromos.com//NONSGML v1.0//EN
VERSION:2.0
CALSCALE:GREGORIAN
METHOD:PUBLISH
X-WR-CALNAME:SINGPromos.com
X-ORIGINAL-URL:http://singpromos.com
X-WR-CALDESC:Events for SINGPromos.com
BEGIN:VEVENT
DTSTART:20230807T000000
DTEND:20230813T235900
DTSTAMP:20260424T000305
CREATED:20230805T174911
LAST-MODIFIED:20230807T125508
UID:269415@http://singpromos.com
SUMMARY:Starbucks offering 1-for-1 selected beverages from Aug 7 - 13 at S'pore stores
DESCRIPTION:1-FOR-1 treats on BLACKPINK Frappuccino, Reusable Cups & more. For more information, visit [ http://singpromos.com/dining-restaurants-food/starbucks-offering-1-for-1-selected-beverages-from-aug-7-13-at-spore-stores-269415/ ]. 
LOCATION:
URL:http://singpromos.com/dining-restaurants-food/starbucks-offering-1-for-1-selected-beverages-from-aug-7-13-at-spore-stores-269415/
END:VEVENT
END:VCALENDAR