BEGIN:VCALENDAR
PRODID:-//SINGPromos.com//NONSGML v1.0//EN
VERSION:2.0
CALSCALE:GREGORIAN
METHOD:PUBLISH
X-WR-CALNAME:SINGPromos.com
X-ORIGINAL-URL:http://singpromos.com
X-WR-CALDESC:Events for SINGPromos.com
BEGIN:VEVENT
DTSTART:20230821T000000
DTEND:20230823T235900
DTSTAMP:20260424T032414
CREATED:20230820T115925
LAST-MODIFIED:20230821T123220
UID:269763@http://singpromos.com
SUMMARY:McDonald's has 50% off Hotcakes Meal breakfast deal from 21 - 23 Aug at S'pore stores, pay only from $3.6
DESCRIPTION:Fluffy Hotcakes are made all the more heavenly when smothered with syrup and margarine. For more information, visit [ http://singpromos.com/dining-restaurants-food/mcdonalds-has-50-off-hotcakes-meal-breakfast-deal-from-21-23-aug-pay-only-from-3-6-269763/ ]. 
LOCATION:
URL:http://singpromos.com/dining-restaurants-food/mcdonalds-has-50-off-hotcakes-meal-breakfast-deal-from-21-23-aug-pay-only-from-3-6-269763/
END:VEVENT
END:VCALENDAR