BEGIN:VCALENDAR
PRODID:-//SINGPromos.com//NONSGML v1.0//EN
VERSION:2.0
CALSCALE:GREGORIAN
METHOD:PUBLISH
X-WR-CALNAME:SINGPromos.com
X-ORIGINAL-URL:http://singpromos.com
X-WR-CALDESC:Events for SINGPromos.com
BEGIN:VEVENT
DTSTART:20230821T000000
DTEND:20230821T235900
DTSTAMP:20260424T032319
CREATED:20230820T215524
LAST-MODIFIED:20230821T123303
UID:269768@http://singpromos.com
SUMMARY:Buy-1-Get-1-Free Nasi Lemak Burger at McDonald's S'pore outlets on Monday, 21 Aug 2023
DESCRIPTION:A new sedap sambal sauce, over new crispy chicken patty and topped with fragrant onions, cucumber and fried egg. For more information, visit [ http://singpromos.com/dining-restaurants-food/buy-1-get-1-free-nasi-lemak-burger-at-mcdonalds-spore-outlets-on-monday-21-aug-2023-269768/ ]. 
LOCATION:
URL:http://singpromos.com/dining-restaurants-food/buy-1-get-1-free-nasi-lemak-burger-at-mcdonalds-spore-outlets-on-monday-21-aug-2023-269768/
END:VEVENT
END:VCALENDAR