BEGIN:VCALENDAR
PRODID:-//SINGPromos.com//NONSGML v1.0//EN
VERSION:2.0
CALSCALE:GREGORIAN
METHOD:PUBLISH
X-WR-CALNAME:SINGPromos.com
X-ORIGINAL-URL:http://singpromos.com
X-WR-CALDESC:Events for SINGPromos.com
BEGIN:VEVENT
DTSTART:20230821T000000
DTEND:20230821T235900
DTSTAMP:20260424T032414
CREATED:20230821T112242
LAST-MODIFIED:20230821T112242
UID:269772@http://singpromos.com
SUMMARY:Texas Chicken S'pore offering $9.90 6pc tenders on Monday, 21 Aug 2023
DESCRIPTION:Save 30% off. For more information, visit [ http://singpromos.com/dining-restaurants-food/texas-chicken-spore-offering-9-90-6pc-tenders-on-monday-21-aug-2023-269772/ ]. 
LOCATION:
URL:http://singpromos.com/dining-restaurants-food/texas-chicken-spore-offering-9-90-6pc-tenders-on-monday-21-aug-2023-269772/
END:VEVENT
END:VCALENDAR