BEGIN:VCALENDAR
PRODID:-//SINGPromos.com//NONSGML v1.0//EN
VERSION:2.0
CALSCALE:GREGORIAN
METHOD:PUBLISH
X-WR-CALNAME:SINGPromos.com
X-ORIGINAL-URL:http://singpromos.com
X-WR-CALDESC:Events for SINGPromos.com
BEGIN:VEVENT
DTSTART:20230822T000000
DTEND:20230831T235900
DTSTAMP:20260424T032420
CREATED:20230821T193850
LAST-MODIFIED:20230822T010146
UID:269789@http://singpromos.com
SUMMARY:KFC S'pore has $5.80 Zinger Meal, $5.80 2 Mushroom Twisters and more App deals till 31 Aug 2023
DESCRIPTION:Experience the grand finale of KFC's month-long promotion. For more information, visit [ http://singpromos.com/dining-restaurants-food/kfc-spore-has-5-80-zinger-meal-5-80-2-mushroom-twisters-and-more-app-deals-till-31-aug-2023-269789/ ]. 
LOCATION:
URL:http://singpromos.com/dining-restaurants-food/kfc-spore-has-5-80-zinger-meal-5-80-2-mushroom-twisters-and-more-app-deals-till-31-aug-2023-269789/
END:VEVENT
END:VCALENDAR