BEGIN:VCALENDAR
PRODID:-//SINGPromos.com//NONSGML v1.0//EN
VERSION:2.0
CALSCALE:GREGORIAN
METHOD:PUBLISH
X-WR-CALNAME:SINGPromos.com
X-ORIGINAL-URL:http://singpromos.com
X-WR-CALDESC:Events for SINGPromos.com
BEGIN:VEVENT
DTSTART:20230822T000000
DTEND:20230823T235900
DTSTAMP:20260424T032318
CREATED:20230822T131740
LAST-MODIFIED:20230822T132436
UID:269799@http://singpromos.com
SUMMARY:30% off Nasi Lemak Burger Feast, $6.50 Big Mac Meal & $7 Grilled Chicken McWrap Meal at McD S'pore till 23 Aug
DESCRIPTION:Back by popular demand. For more information, visit [ http://singpromos.com/dining-restaurants-food/30-off-nasi-lemak-burger-feast-6-50-big-mac-meal-7-grilled-chicken-mcwrap-meal-at-mcd-spore-till-23-aug-269799/ ]. 
LOCATION:
URL:http://singpromos.com/dining-restaurants-food/30-off-nasi-lemak-burger-feast-6-50-big-mac-meal-7-grilled-chicken-mcwrap-meal-at-mcd-spore-till-23-aug-269799/
END:VEVENT
END:VCALENDAR