BEGIN:VCALENDAR
PRODID:-//SINGPromos.com//NONSGML v1.0//EN
VERSION:2.0
CALSCALE:GREGORIAN
METHOD:PUBLISH
X-WR-CALNAME:SINGPromos.com
X-ORIGINAL-URL:http://singpromos.com
X-WR-CALDESC:Events for SINGPromos.com
BEGIN:VEVENT
DTSTART:20230823T000000
DTEND:20230827T235900
DTSTAMP:20260424T032318
CREATED:20230823T150303
LAST-MODIFIED:20230823T132309
UID:269832@http://singpromos.com
SUMMARY:SingSaver: Dyson Airwrap™ multi-styler (Complete) + AirPods Pro with SCB Simply Cash Credit Card
DESCRIPTION:Apply via SingSaver for the best rewards, always. For more information, visit [ http://singpromos.com/banks-credit-cards/singsaver-dyson-airwrap-multi-styler-complete-airpods-pro-with-scb-simply-cash-credit-card-269832/ ]. 
LOCATION:
URL:http://singpromos.com/banks-credit-cards/singsaver-dyson-airwrap-multi-styler-complete-airpods-pro-with-scb-simply-cash-credit-card-269832/
END:VEVENT
END:VCALENDAR