BEGIN:VCALENDAR
PRODID:-//SINGPromos.com//NONSGML v1.0//EN
VERSION:2.0
CALSCALE:GREGORIAN
METHOD:PUBLISH
X-WR-CALNAME:SINGPromos.com
X-ORIGINAL-URL:http://singpromos.com
X-WR-CALDESC:Events for SINGPromos.com
BEGIN:VEVENT
DTSTART:20230824T000000
DTEND:20230831T235900
DTSTAMP:20260424T032312
CREATED:20230823T161216
LAST-MODIFIED:20230823T165536
UID:269846@http://singpromos.com
SUMMARY:Buy-1-Get-1-Free Texas Chicken Cheese Fries at S'pore outlets from 24 - 31 Aug 2023
DESCRIPTION:No minimum spend or purchase required. For more information, visit [ http://singpromos.com/dining-restaurants-food/buy-1-get-1-free-texas-chicken-cheese-fries-at-spore-outlets-from-24-31-aug-2023-269846/ ]. 
LOCATION:
URL:http://singpromos.com/dining-restaurants-food/buy-1-get-1-free-texas-chicken-cheese-fries-at-spore-outlets-from-24-31-aug-2023-269846/
END:VEVENT
END:VCALENDAR