BEGIN:VCALENDAR
PRODID:-//SINGPromos.com//NONSGML v1.0//EN
VERSION:2.0
CALSCALE:GREGORIAN
METHOD:PUBLISH
X-WR-CALNAME:SINGPromos.com
X-ORIGINAL-URL:http://singpromos.com
X-WR-CALDESC:Events for SINGPromos.com
BEGIN:VEVENT
DTSTART:20230824T000000
DTEND:20230827T235900
DTSTAMP:20260424T032420
CREATED:20230824T021404
LAST-MODIFIED:20230824T001543
UID:269853@http://singpromos.com
SUMMARY:Watsons S'pore is offering 30% off ALL haircare products online till 27 Aug 2023
DESCRIPTION:No minimum spend required. For more information, visit [ http://singpromos.com/personal-care/watsons-spore-is-offering-30-off-all-haircare-products-online-till-27-aug-2023-269853/ ]. 
LOCATION:
URL:http://singpromos.com/personal-care/watsons-spore-is-offering-30-off-all-haircare-products-online-till-27-aug-2023-269853/
END:VEVENT
END:VCALENDAR