BEGIN:VCALENDAR
PRODID:-//SINGPromos.com//NONSGML v1.0//EN
VERSION:2.0
CALSCALE:GREGORIAN
METHOD:PUBLISH
X-WR-CALNAME:SINGPromos.com
X-ORIGINAL-URL:http://singpromos.com
X-WR-CALDESC:Events for SINGPromos.com
BEGIN:VEVENT
DTSTART:20230824T000000
DTEND:20230830T235900
DTSTAMP:20260424T032318
CREATED:20230824T130917
LAST-MODIFIED:20230824T132221
UID:269860@http://singpromos.com
SUMMARY:Grab Haagen-Dazs ice cream tubs at $8.33 each at Fairprice outlets when you buy three till 30 Aug 2023
DESCRIPTION:Haagen-Dazs fans, save on your favourite ice cream with this deal. For more information, visit [ http://singpromos.com/dining-restaurants-food/grab-haagen-dazs-ice-cream-tubs-at-8-33-each-at-fairprice-outlets-when-you-buy-three-till-30-aug-2023-269860/ ]. 
LOCATION:
URL:http://singpromos.com/dining-restaurants-food/grab-haagen-dazs-ice-cream-tubs-at-8-33-each-at-fairprice-outlets-when-you-buy-three-till-30-aug-2023-269860/
END:VEVENT
END:VCALENDAR