BEGIN:VCALENDAR
PRODID:-//SINGPromos.com//NONSGML v1.0//EN
VERSION:2.0
CALSCALE:GREGORIAN
METHOD:PUBLISH
X-WR-CALNAME:SINGPromos.com
X-ORIGINAL-URL:http://singpromos.com
X-WR-CALDESC:Events for SINGPromos.com
BEGIN:VEVENT
DTSTART:20230818T000000
DTEND:20230904T235900
DTSTAMP:20260424T032413
CREATED:20230824T203155
LAST-MODIFIED:20230824T203405
UID:269867@http://singpromos.com
SUMMARY:Earn a minimum of 3.00% a year with OCBC's latest Structured Deposit tranche, apply by 4 Sep 2023
DESCRIPTION:Stretch your investment with potentially higher returns. For more information, visit [ http://singpromos.com/banks-credit-cards/earn-a-minimum-of-3-00-a-year-with-ocbcs-latest-structured-deposit-tranche-apply-by-4-sep-2023-269867/ ]. 
LOCATION:
URL:http://singpromos.com/banks-credit-cards/earn-a-minimum-of-3-00-a-year-with-ocbcs-latest-structured-deposit-tranche-apply-by-4-sep-2023-269867/
END:VEVENT
END:VCALENDAR