BEGIN:VCALENDAR
PRODID:-//SINGPromos.com//NONSGML v1.0//EN
VERSION:2.0
CALSCALE:GREGORIAN
METHOD:PUBLISH
X-WR-CALNAME:SINGPromos.com
X-ORIGINAL-URL:http://singpromos.com
X-WR-CALDESC:Events for SINGPromos.com
BEGIN:VEVENT
DTSTART:20230825T000000
DTEND:20230825T235900
DTSTAMP:20260424T014031
CREATED:20230825T023121
LAST-MODIFIED:20230825T023121
UID:269871@http://singpromos.com
SUMMARY:20% off McDonald's Chicken McCrispy® (2pc) Meal at S'pore outlets on Friday, 25 Aug 2023
DESCRIPTION:End the week with some crispy, juicy, tender treat. For more information, visit [ http://singpromos.com/dining-restaurants-food/20-off-mcdonalds-chicken-mccrispy-2pc-meal-at-spore-outlets-on-friday-25-aug-2023-269871/ ]. 
LOCATION:
URL:http://singpromos.com/dining-restaurants-food/20-off-mcdonalds-chicken-mccrispy-2pc-meal-at-spore-outlets-on-friday-25-aug-2023-269871/
END:VEVENT
END:VCALENDAR