BEGIN:VCALENDAR
PRODID:-//SINGPromos.com//NONSGML v1.0//EN
VERSION:2.0
CALSCALE:GREGORIAN
METHOD:PUBLISH
X-WR-CALNAME:SINGPromos.com
X-ORIGINAL-URL:http://singpromos.com
X-WR-CALDESC:Events for SINGPromos.com
BEGIN:VEVENT
DTSTART:20230825T000000
DTEND:20230827T235900
DTSTAMP:20260424T014030
CREATED:20230825T121153
LAST-MODIFIED:20230825T122811
UID:269874@http://singpromos.com
SUMMARY:Sheng Siong 3-Days Specials has Pepsi, 7UP, Oatside, Post, M&M's, Snickers, Mars and more till 27 Aug 2023
DESCRIPTION:3 days specials. For more information, visit [ http://singpromos.com/dining-restaurants-food/sheng-siong-3-days-specials-has-pepsi-7up-oatside-post-mms-snickers-mars-and-more-till-27-aug-2023-269874/ ]. 
LOCATION:
URL:http://singpromos.com/dining-restaurants-food/sheng-siong-3-days-specials-has-pepsi-7up-oatside-post-mms-snickers-mars-and-more-till-27-aug-2023-269874/
END:VEVENT
END:VCALENDAR