BEGIN:VCALENDAR
PRODID:-//SINGPromos.com//NONSGML v1.0//EN
VERSION:2.0
CALSCALE:GREGORIAN
METHOD:PUBLISH
X-WR-CALNAME:SINGPromos.com
X-ORIGINAL-URL:http://singpromos.com
X-WR-CALDESC:Events for SINGPromos.com
BEGIN:VEVENT
DTSTART:20230828T000000
DTEND:20230830T235900
DTSTAMP:20260424T014215
CREATED:20230826T204351
LAST-MODIFIED:20230827T003408
UID:269926@http://singpromos.com
SUMMARY:McDonald's offering Buy-1-Get-1-FREE Big Breakfast® deal at S'pore stores from 28 - 30 Aug 2023
DESCRIPTION:Freshly scrambled eggs set aside a sizzling sausage, perfectly crisp Hashbrowns and mouth-watering toasted muffins. For more information, visit [ http://singpromos.com/dining-restaurants-food/mcdonalds-offering-buy-1-get-1-free-big-breakfast-deal-at-spore-stores-from-28-30-aug-2023-269926/ ]. 
LOCATION:
URL:http://singpromos.com/dining-restaurants-food/mcdonalds-offering-buy-1-get-1-free-big-breakfast-deal-at-spore-stores-from-28-30-aug-2023-269926/
END:VEVENT
END:VCALENDAR