BEGIN:VCALENDAR
PRODID:-//SINGPromos.com//NONSGML v1.0//EN
VERSION:2.0
CALSCALE:GREGORIAN
METHOD:PUBLISH
X-WR-CALNAME:SINGPromos.com
X-ORIGINAL-URL:http://singpromos.com
X-WR-CALDESC:Events for SINGPromos.com
BEGIN:VEVENT
DTSTART:20230828T000000
DTEND:20230830T235900
DTSTAMP:20260424T014122
CREATED:20230828T020300
LAST-MODIFIED:20230828T005713
UID:269938@http://singpromos.com
SUMMARY:Watsons S'pore Payday Frenzy promo offers up to $42 off at online store with these codes till 30 Aug 2023
DESCRIPTION:Payday Frenzy sale. For more information, visit [ http://singpromos.com/department-stores/watsons-spore-payday-frenzy-promo-offers-up-to-42-off-at-online-store-with-these-codes-till-30-aug-2023-269938/ ]. 
LOCATION:
URL:http://singpromos.com/department-stores/watsons-spore-payday-frenzy-promo-offers-up-to-42-off-at-online-store-with-these-codes-till-30-aug-2023-269938/
END:VEVENT
END:VCALENDAR