BEGIN:VCALENDAR
PRODID:-//SINGPromos.com//NONSGML v1.0//EN
VERSION:2.0
CALSCALE:GREGORIAN
METHOD:PUBLISH
X-WR-CALNAME:SINGPromos.com
X-ORIGINAL-URL:http://singpromos.com
X-WR-CALDESC:Events for SINGPromos.com
BEGIN:VEVENT
DTSTART:20230828T000000
DTEND:20230828T235900
DTSTAMP:20260424T014051
CREATED:20230828T013632
LAST-MODIFIED:20230828T110457
UID:269941@http://singpromos.com
SUMMARY:McDonald's S'pore 50% off Chicken McNuggets (6pc) Upsized Meal deal on 28 Aug means you pay only S$4.48
DESCRIPTION:Happy Mondays with McDonald's. For more information, visit [ http://singpromos.com/dining-restaurants-food/mcdonalds-spore-50-off-chicken-mcnuggets-6pc-upsized-meal-deal-on-28-aug-means-you-pay-only-s4-48-269941/ ]. 
LOCATION:
URL:http://singpromos.com/dining-restaurants-food/mcdonalds-spore-50-off-chicken-mcnuggets-6pc-upsized-meal-deal-on-28-aug-means-you-pay-only-s4-48-269941/
END:VEVENT
END:VCALENDAR