BEGIN:VCALENDAR
PRODID:-//SINGPromos.com//NONSGML v1.0//EN
VERSION:2.0
CALSCALE:GREGORIAN
METHOD:PUBLISH
X-WR-CALNAME:SINGPromos.com
X-ORIGINAL-URL:http://singpromos.com
X-WR-CALDESC:Events for SINGPromos.com
BEGIN:VEVENT
DTSTART:20230829T000000
DTEND:20230903T235900
DTSTAMP:20260424T014051
CREATED:20230829T154500
LAST-MODIFIED:20230829T154500
UID:269968@http://singpromos.com
SUMMARY:Sephora Beauty Pass Sale offers up to 20% off from 29 Aug - 3 Sep 2023
DESCRIPTION:Snag up to 20% off everything plus a gift. For more information, visit [ http://singpromos.com/beauty/sephora-beauty-pass-sale-offers-up-to-20-off-from-29-aug-3-sep-2023-269968/ ]. 
LOCATION:
URL:http://singpromos.com/beauty/sephora-beauty-pass-sale-offers-up-to-20-off-from-29-aug-3-sep-2023-269968/
END:VEVENT
END:VCALENDAR