BEGIN:VCALENDAR
PRODID:-//SINGPromos.com//NONSGML v1.0//EN
VERSION:2.0
CALSCALE:GREGORIAN
METHOD:PUBLISH
X-WR-CALNAME:SINGPromos.com
X-ORIGINAL-URL:http://singpromos.com
X-WR-CALDESC:Events for SINGPromos.com
BEGIN:VEVENT
DTSTART:20230831T000000
DTEND:20230904T235900
DTSTAMP:20260424T000337
CREATED:20230830T165329
LAST-MODIFIED:20230830T165329
UID:269988@http://singpromos.com
SUMMARY:King Koil Annual Warehouse Sale from 31 Aug - 4 Sep 2023
DESCRIPTION:King Koil beds, mattresses, pillows and furniture. For more information, visit [ http://singpromos.com/warehouse-sales/king-koil-annual-warehouse-sale-from-31-aug-4-sep-2023-269988/ ]. 
LOCATION:728792
URL:http://singpromos.com/warehouse-sales/king-koil-annual-warehouse-sale-from-31-aug-4-sep-2023-269988/
END:VEVENT
END:VCALENDAR