BEGIN:VCALENDAR
PRODID:-//SINGPromos.com//NONSGML v1.0//EN
VERSION:2.0
CALSCALE:GREGORIAN
METHOD:PUBLISH
X-WR-CALNAME:SINGPromos.com
X-ORIGINAL-URL:http://singpromos.com
X-WR-CALDESC:Events for SINGPromos.com
BEGIN:VEVENT
DTSTART:20230831T000000
DTEND:20230910T235900
DTSTAMP:20260424T000305
CREATED:20230831T111853
LAST-MODIFIED:20230831T111853
UID:270002@http://singpromos.com
SUMMARY:Skechers S'pore offering 50% OFF Footwear and Apparel at online store till 10 Sep 2023
DESCRIPTION:Applicable for selected items only. For more information, visit [ http://singpromos.com/footwear/skechers-spore-offering-50-off-footwear-and-apparel-at-online-store-till-10-sep-2023-270002/ ]. 
LOCATION:
URL:http://singpromos.com/footwear/skechers-spore-offering-50-off-footwear-and-apparel-at-online-store-till-10-sep-2023-270002/
END:VEVENT
END:VCALENDAR