BEGIN:VCALENDAR
PRODID:-//SINGPromos.com//NONSGML v1.0//EN
VERSION:2.0
CALSCALE:GREGORIAN
METHOD:PUBLISH
X-WR-CALNAME:SINGPromos.com
X-ORIGINAL-URL:http://singpromos.com
X-WR-CALDESC:Events for SINGPromos.com
BEGIN:VEVENT
DTSTART:20231103T000000
DTEND:20231105T235900
DTSTAMP:20260420T045225
CREATED:20231101T191334
LAST-MODIFIED:20231102T125917
UID:272090@http://singpromos.com
SUMMARY:Brandt Sale at SAFRA Toa Payoh from 3 - 5 Nov 2023
DESCRIPTION:Up to 80% off on ex-displays and new products. For more information, visit [ http://singpromos.com/warehouse-sales/brandt-sale-at-safra-toa-payoh-from-2-5-nov-2023-272090/ ]. 
LOCATION:319387
URL:http://singpromos.com/warehouse-sales/brandt-sale-at-safra-toa-payoh-from-2-5-nov-2023-272090/
END:VEVENT
END:VCALENDAR