BEGIN:VCALENDAR
PRODID:-//SINGPromos.com//NONSGML v1.0//EN
VERSION:2.0
CALSCALE:GREGORIAN
METHOD:PUBLISH
X-WR-CALNAME:SINGPromos.com
X-ORIGINAL-URL:http://singpromos.com
X-WR-CALDESC:Events for SINGPromos.com
BEGIN:VEVENT
DTSTART:20240509T000000
DTEND:20240515T235900
DTSTAMP:20260420T035215
CREATED:20240509T140116
LAST-MODIFIED:20240509T142931
UID:278228@http://singpromos.com
SUMMARY:Cold Storage selling Ben & Jerry's for just S$9.80 each with no min quantity required till 15 May 2024
DESCRIPTION:No minimum purchase quantity required. For more information, visit [ http://singpromos.com/dining-restaurants-food/cold-storage-selling-ben-jerrys-for-just-s9-80-each-with-no-min-quantity-required-till-15-may-2024-278228/ ]. 
LOCATION:
URL:http://singpromos.com/dining-restaurants-food/cold-storage-selling-ben-jerrys-for-just-s9-80-each-with-no-min-quantity-required-till-15-may-2024-278228/
END:VEVENT
END:VCALENDAR