BEGIN:VCALENDAR
PRODID:-//SINGPromos.com//NONSGML v1.0//EN
VERSION:2.0
CALSCALE:GREGORIAN
METHOD:PUBLISH
X-WR-CALNAME:SINGPromos.com
X-ORIGINAL-URL:http://singpromos.com
X-WR-CALDESC:Events for SINGPromos.com
BEGIN:VEVENT
DTSTART:20240720T000000
DTEND:20240720T235900
DTSTAMP:20260420T031308
CREATED:20240717T182037
LAST-MODIFIED:20240717T152116
UID:280105@http://singpromos.com
SUMMARY:Up to 60% off at the ONE DAY ONLY Karcher Warehouse Sale on Sat 20 July 2024
DESCRIPTION:Get up to 60% off Karcher German-engineered household cleaning appliances, ranging from steam, vacuum floor cleaners, pressure washers and more. For more information, visit [ http://singpromos.com/warehouse-sales/up-to-60-off-at-the-one-day-only-karcher-warehouse-sale-on-sat-20-july-2024-280105/ ]. 
LOCATION:30 Teban Gardens Crescent, 608927
URL:http://singpromos.com/warehouse-sales/up-to-60-off-at-the-one-day-only-karcher-warehouse-sale-on-sat-20-july-2024-280105/
END:VEVENT
END:VCALENDAR