BEGIN:VCALENDAR
PRODID:-//SINGPromos.com//NONSGML v1.0//EN
VERSION:2.0
CALSCALE:GREGORIAN
METHOD:PUBLISH
X-WR-CALNAME:SINGPromos.com
X-ORIGINAL-URL:http://singpromos.com
X-WR-CALDESC:Events for SINGPromos.com
BEGIN:VEVENT
DTSTART:20240918T000000
DTEND:20240924T235900
DTSTAMP:20260420T165614
CREATED:20240909T192351
LAST-MODIFIED:20240909T192517
UID:282022@http://singpromos.com
SUMMARY:F1 2024 Road Closures from 18 - 24 Sep 2024
DESCRIPTION:Road Closure and Public Transport Arrangement for the Formula 1 Singapore Airlines Singapore Grand Prix 2024. For more information, visit [ http://singpromos.com/news/f1-2024-road-closures-from-18-24-sep-2024-282022/ ]. 
LOCATION:
URL:http://singpromos.com/news/f1-2024-road-closures-from-18-24-sep-2024-282022/
END:VEVENT
END:VCALENDAR