BEGIN:VCALENDAR
PRODID:-//SINGPromos.com//NONSGML v1.0//EN
VERSION:2.0
CALSCALE:GREGORIAN
METHOD:PUBLISH
X-WR-CALNAME:SINGPromos.com
X-ORIGINAL-URL:http://singpromos.com
X-WR-CALDESC:Events for SINGPromos.com
BEGIN:VEVENT
DTSTART:20241005T000000
DTEND:20241005T235900
DTSTAMP:20260419T233538
CREATED:20241003T152021
LAST-MODIFIED:20241003T162045
UID:282326@http://singpromos.com
SUMMARY:Games@PI Warehouse Sale on 5 October 2024
DESCRIPTION:Snag board games and tabletop war games at unbeatable prices. For more information, visit [ http://singpromos.com/warehouse-sales/gamespi-warehouse-sale-on-5-october-2024-282326/ ]. 
LOCATION:623 Aljunied Road, 389835
URL:http://singpromos.com/warehouse-sales/gamespi-warehouse-sale-on-5-october-2024-282326/
END:VEVENT
END:VCALENDAR