BEGIN:VCALENDAR
PRODID:-//SINGPromos.com//NONSGML v1.0//EN
VERSION:2.0
CALSCALE:GREGORIAN
METHOD:PUBLISH
X-WR-CALNAME:SINGPromos.com
X-ORIGINAL-URL:http://singpromos.com
X-WR-CALDESC:Events for SINGPromos.com
BEGIN:VEVENT
DTSTART:20241109T000000
DTEND:20241109T235900
DTSTAMP:20260420T031410
CREATED:20241106T142456
LAST-MODIFIED:20241106T142604
UID:283928@http://singpromos.com
SUMMARY:Up to 60% off at the ONE DAY ONLY Karcher Friends and Family Sale on Sat 9 Nov 2024
DESCRIPTION:The Karcher Friends and Family Sale is here! One-day only on Saturday 9 Nov 2024.. For more information, visit [ http://singpromos.com/warehouse-sales/up-to-60-off-at-the-one-day-only-karcher-friends-and-family-sale-on-sat-9-nov-2024-283928/ ]. 
LOCATION:608927
URL:http://singpromos.com/warehouse-sales/up-to-60-off-at-the-one-day-only-karcher-friends-and-family-sale-on-sat-9-nov-2024-283928/
END:VEVENT
END:VCALENDAR