BEGIN:VCALENDAR
PRODID:-//SINGPromos.com//NONSGML v1.0//EN
VERSION:2.0
CALSCALE:GREGORIAN
METHOD:PUBLISH
X-WR-CALNAME:SINGPromos.com
X-ORIGINAL-URL:http://singpromos.com
X-WR-CALDESC:Events for SINGPromos.com
BEGIN:VEVENT
DTSTART:20120328T000000
DTEND:20120331T235900
DTSTAMP:20260420T035915
CREATED:20120328T191335
LAST-MODIFIED:20120328T191335
UID:28434@http://singpromos.com
SUMMARY:NTUC Unity $10 Off For Every $60 Nett Spent 28 - 31 Mar 2012
DESCRIPTION:NTUC Unity is having a $10 off promotion for every $60 nett spent, storewide for 3 days till 30 March 2012. What's more, enjoy 20% off selected brands till 29 march 2012 including Ebene, Blackmores, GreenLife, Physiogel, Omron, Vichy, VitaHealth, Redoxon and more. For more information, visit [ http://singpromos.com/health/ntuc-unity-10-off-for-every-60-nett-spent-28-31-mar-2012-28434/ ]. 
LOCATION:
URL:http://singpromos.com/health/ntuc-unity-10-off-for-every-60-nett-spent-28-31-mar-2012-28434/
END:VEVENT
END:VCALENDAR