BEGIN:VCALENDAR
PRODID:-//SINGPromos.com//NONSGML v1.0//EN
VERSION:2.0
CALSCALE:GREGORIAN
METHOD:PUBLISH
X-WR-CALNAME:SINGPromos.com
X-ORIGINAL-URL:http://singpromos.com
X-WR-CALDESC:Events for SINGPromos.com
BEGIN:VEVENT
DTSTART:20241226T000000
DTEND:20241231T235900
DTSTAMP:20260424T025958
CREATED:20241226T183726
LAST-MODIFIED:20241226T184223
UID:285578@http://singpromos.com
SUMMARY:luckin coffee S'pore has 1-for-1 coffee deal till 31 Dec 2024
DESCRIPTION:Celebrate year-end with Luckin Coffee's 1-for-1 offer available on all beverages!. For more information, visit [ http://singpromos.com/dining-restaurants-food/luckin-coffee-spore-has-1-for-1-coffee-deal-till-31-dec-2024-285578/ ]. 
LOCATION:
URL:http://singpromos.com/dining-restaurants-food/luckin-coffee-spore-has-1-for-1-coffee-deal-till-31-dec-2024-285578/
END:VEVENT
END:VCALENDAR