BEGIN:VCALENDAR
PRODID:-//SINGPromos.com//NONSGML v1.0//EN
VERSION:2.0
CALSCALE:GREGORIAN
METHOD:PUBLISH
X-WR-CALNAME:SINGPromos.com
X-ORIGINAL-URL:http://singpromos.com
X-WR-CALDESC:Events for SINGPromos.com
BEGIN:VEVENT
DTSTART:20250103T000000
DTEND:20251231T235900
DTSTAMP:20260422T193135
CREATED:20250103T133729
LAST-MODIFIED:20250514T185557
UID:285912@http://singpromos.com
SUMMARY:How to claim CDC 2025 vouchers in screenshots
DESCRIPTION:Similar to previous tranches, there is no need to download a mobile app. For more information, visit [ http://singpromos.com/banks-credit-cards/how-to-claim-cdc-2025-vouchers-in-screenshots-285912/ ]. 
LOCATION:
URL:http://singpromos.com/banks-credit-cards/how-to-claim-cdc-2025-vouchers-in-screenshots-285912/
END:VEVENT
END:VCALENDAR