BEGIN:VCALENDAR
PRODID:-//SINGPromos.com//NONSGML v1.0//EN
VERSION:2.0
CALSCALE:GREGORIAN
METHOD:PUBLISH
X-WR-CALNAME:SINGPromos.com
X-ORIGINAL-URL:http://singpromos.com
X-WR-CALDESC:Events for SINGPromos.com
BEGIN:VEVENT
DTSTART:20250214T000000
DTEND:20250216T235900
DTSTAMP:20260424T025906
CREATED:20250214T173110
LAST-MODIFIED:20250214T173828
UID:287389@http://singpromos.com
SUMMARY:luckin coffee Singapore Has 1-for-1 Coffee Promotion Until 16 Feb 2025
DESCRIPTION:Enjoy a 1-for-1 coffee deal at Luckin Coffee Singapore. For more information, visit [ http://singpromos.com/dining-restaurants-food/luckin-coffee-singapore-has-1-for-1-coffee-promotion-until-16-feb-2025-287389/ ]. 
LOCATION:
URL:http://singpromos.com/dining-restaurants-food/luckin-coffee-singapore-has-1-for-1-coffee-promotion-until-16-feb-2025-287389/
END:VEVENT
END:VCALENDAR