BEGIN:VCALENDAR
PRODID:-//SINGPromos.com//NONSGML v1.0//EN
VERSION:2.0
CALSCALE:GREGORIAN
METHOD:PUBLISH
X-WR-CALNAME:SINGPromos.com
X-ORIGINAL-URL:http://singpromos.com
X-WR-CALDESC:Events for SINGPromos.com
BEGIN:VEVENT
DTSTART:20250317T000000
DTEND:20250330T235900
DTSTAMP:20260420T062106
CREATED:20250317T103722
LAST-MODIFIED:20250316T145045
UID:288303@http://singpromos.com
SUMMARY:Tong Garden's Annual Hari Raya Warehouse Sale Returns from 17 to 30 March 2025
DESCRIPTION:Get your hands on festive favourites at unbeatable prices this Hari Raya season. For more information, visit [ http://singpromos.com/warehouse-sales/tong-gardens-annual-hari-raya-warehouse-sale-returns-from-17-to-30-march-2025-288303/ ]. 
LOCATION:21 Pandan Avenue, 609388
URL:http://singpromos.com/warehouse-sales/tong-gardens-annual-hari-raya-warehouse-sale-returns-from-17-to-30-march-2025-288303/
END:VEVENT
END:VCALENDAR