BEGIN:VCALENDAR
PRODID:-//SINGPromos.com//NONSGML v1.0//EN
VERSION:2.0
CALSCALE:GREGORIAN
METHOD:PUBLISH
X-WR-CALNAME:SINGPromos.com
X-ORIGINAL-URL:http://singpromos.com
X-WR-CALDESC:Events for SINGPromos.com
BEGIN:VEVENT
DTSTART:20110122T000000
DTEND:20110128T235900
DTSTAMP:20260420T165507
CREATED:20110122T144322
LAST-MODIFIED:20110122T144322
UID:2887@http://singpromos.com
SUMMARY:Harvey Norman Auspicious Sale 22 - 28 Jan 2011
DESCRIPTION:Harvey Norman is havin an "auspicious sale" with 8 auspicious treasures sale including a Canon Digital Camera Poweshot A490 at $88, computers, notebook, tv, blu-ray players and washing machines. It is also having a Sealy Posturepedic mattress sale. See image for full price list.. For more information, visit [ http://singpromos.com/computers-pc/harvey-norman-auspicious-sale-22-28-jan-2011-2887/ ]. 
LOCATION:
URL:http://singpromos.com/computers-pc/harvey-norman-auspicious-sale-22-28-jan-2011-2887/
END:VEVENT
END:VCALENDAR