BEGIN:VCALENDAR
PRODID:-//SINGPromos.com//NONSGML v1.0//EN
VERSION:2.0
CALSCALE:GREGORIAN
METHOD:PUBLISH
X-WR-CALNAME:SINGPromos.com
X-ORIGINAL-URL:http://singpromos.com
X-WR-CALDESC:Events for SINGPromos.com
BEGIN:VEVENT
DTSTART:20250408T000000
DTEND:20250417T235900
DTSTAMP:20260419T223454
CREATED:20250408T141404
LAST-MODIFIED:20250411T140751
UID:289019@http://singpromos.com
SUMMARY:Scoot S'pore SG60 Flash Sale Has Fares fr $69 to 60 Global Destinations till 17 April 2025
DESCRIPTION:Get 60%* off base fares to Seoul, Perth, Qingdao and Shenyang and more deals. For more information, visit [ http://singpromos.com/airlines-flights/scoot-spore-sg60-flash-sale-has-fares-fr-88-to-60-global-destinations-till-9-april-2025-289019/ ]. 
LOCATION:
URL:http://singpromos.com/airlines-flights/scoot-spore-sg60-flash-sale-has-fares-fr-88-to-60-global-destinations-till-9-april-2025-289019/
END:VEVENT
END:VCALENDAR