BEGIN:VCALENDAR
PRODID:-//SINGPromos.com//NONSGML v1.0//EN
VERSION:2.0
CALSCALE:GREGORIAN
METHOD:PUBLISH
X-WR-CALNAME:SINGPromos.com
X-ORIGINAL-URL:http://singpromos.com
X-WR-CALDESC:Events for SINGPromos.com
BEGIN:VEVENT
DTSTART:20250423T000000
DTEND:20250428T235900
DTSTAMP:20260424T012309
CREATED:20250423T135639
LAST-MODIFIED:20250423T141620
UID:289387@http://singpromos.com
SUMMARY:Luckin Coffee Singapore Has 1-for-1 Coffee Promotion Till 28 April 2025
DESCRIPTION:Get double the coffee joy. For more information, visit [ http://singpromos.com/dining-restaurants-food/luckin-coffee-singapore-has-1-for-1-coffee-promotion-till-28-april-2025-289387/ ]. 
LOCATION:
URL:http://singpromos.com/dining-restaurants-food/luckin-coffee-singapore-has-1-for-1-coffee-promotion-till-28-april-2025-289387/
END:VEVENT
END:VCALENDAR