BEGIN:VCALENDAR
PRODID:-//SINGPromos.com//NONSGML v1.0//EN
VERSION:2.0
CALSCALE:GREGORIAN
METHOD:PUBLISH
X-WR-CALNAME:SINGPromos.com
X-ORIGINAL-URL:http://singpromos.com
X-WR-CALDESC:Events for SINGPromos.com
BEGIN:VEVENT
DTSTART:20250516T000000
DTEND:20250518T235900
DTSTAMP:20260420T045224
CREATED:20250513T150810
LAST-MODIFIED:20250513T150936
UID:289842@http://singpromos.com
SUMMARY:SMEG S'pore Warehouse Sale Returns With Huge Savings from 16 to 18 May 2025
DESCRIPTION:Massive SMEG discounts await at Jalan Pemimpin from 16-18 May, with exclusive early bird perks. For more information, visit [ http://singpromos.com/warehouse-sales/smeg-spore-warehouse-sale-returns-with-huge-savings-from-16-to-18-may-2025-289842/ ]. 
LOCATION:577203
URL:http://singpromos.com/warehouse-sales/smeg-spore-warehouse-sale-returns-with-huge-savings-from-16-to-18-may-2025-289842/
END:VEVENT
END:VCALENDAR