BEGIN:VCALENDAR
PRODID:-//SINGPromos.com//NONSGML v1.0//EN
VERSION:2.0
CALSCALE:GREGORIAN
METHOD:PUBLISH
X-WR-CALNAME:SINGPromos.com
X-ORIGINAL-URL:http://singpromos.com
X-WR-CALDESC:Events for SINGPromos.com
BEGIN:VEVENT
DTSTART:20250522T000000
DTEND:20250525T235900
DTSTAMP:20260420T045218
CREATED:20250521T152741
LAST-MODIFIED:20250521T154828
UID:290059@http://singpromos.com
SUMMARY:Babyboo Warehouse Sale Returns With Discounts Up to 90% Off on Baby Essentials from 22-25 May 2025
DESCRIPTION:Great discounts await parents and families at Babyboo's big May warehouse clearance. For more information, visit [ http://singpromos.com/warehouse-sales/babyboo-warehouse-sale-returns-with-discounts-up-to-90-off-on-baby-essentials-from-22-25-may-2025-290059/ ]. 
LOCATION:608606
URL:http://singpromos.com/warehouse-sales/babyboo-warehouse-sale-returns-with-discounts-up-to-90-off-on-baby-essentials-from-22-25-may-2025-290059/
END:VEVENT
END:VCALENDAR