BEGIN:VCALENDAR
PRODID:-//SINGPromos.com//NONSGML v1.0//EN
VERSION:2.0
CALSCALE:GREGORIAN
METHOD:PUBLISH
X-WR-CALNAME:SINGPromos.com
X-ORIGINAL-URL:http://singpromos.com
X-WR-CALDESC:Events for SINGPromos.com
BEGIN:VEVENT
DTSTART:20250606T000000
DTEND:20250608T235900
DTSTAMP:20260420T031308
CREATED:20250603T151809
LAST-MODIFIED:20250603T151809
UID:290543@http://singpromos.com
SUMMARY:FURNITURE MEGA SALE - The BEST Value Deal: June 06 - 08! (Up to 80% OFF)
DESCRIPTION:Discover a wide range of quality furniture at unbeatable prices, including sofas, dining sets, bedroom furniture, wardrobes, and more. For more information, visit [ http://singpromos.com/warehouse-sales/furniture-mega-sale-the-best-value-deal-june-06-08-up-to-80-off-290543/ ]. 
LOCATION:29 Tai Seng Avenue, 534119
URL:http://singpromos.com/warehouse-sales/furniture-mega-sale-the-best-value-deal-june-06-08-up-to-80-off-290543/
END:VEVENT
END:VCALENDAR