BEGIN:VCALENDAR
PRODID:-//SINGPromos.com//NONSGML v1.0//EN
VERSION:2.0
CALSCALE:GREGORIAN
METHOD:PUBLISH
X-WR-CALNAME:SINGPromos.com
X-ORIGINAL-URL:http://singpromos.com
X-WR-CALDESC:Events for SINGPromos.com
BEGIN:VEVENT
DTSTART:20250708T000000
DTEND:20250710T235900
DTSTAMP:20260420T031301
CREATED:20250707T151252
LAST-MODIFIED:20250704T151332
UID:291461@http://singpromos.com
SUMMARY:3M Warehouse Sale Has Up to 70% Off on Scotch-Brite, Command & More from 8 - 10 July 2025
DESCRIPTION:Enjoy mega discounts, door gifts, and exclusive prizes at 3M's warehouse sale this July. For more information, visit [ http://singpromos.com/warehouse-sales/3m-warehouse-sale-has-up-to-70-off-on-scotch-brite-command-more-from-8-10-july-2025-291461/ ]. 
LOCATION:10 Ang Mo Kio St 65, 569059
URL:http://singpromos.com/warehouse-sales/3m-warehouse-sale-has-up-to-70-off-on-scotch-brite-command-more-from-8-10-july-2025-291461/
END:VEVENT
END:VCALENDAR