BEGIN:VCALENDAR
PRODID:-//SINGPromos.com//NONSGML v1.0//EN
VERSION:2.0
CALSCALE:GREGORIAN
METHOD:PUBLISH
X-WR-CALNAME:SINGPromos.com
X-ORIGINAL-URL:http://singpromos.com
X-WR-CALDESC:Events for SINGPromos.com
BEGIN:VEVENT
DTSTART:20250725T000000
DTEND:20250727T235900
DTSTAMP:20260420T031301
CREATED:20250725T020239
LAST-MODIFIED:20250723T143807
UID:292110@http://singpromos.com
SUMMARY:Mayer Warehouse Sale Returns with Up to 85% OFF This Weekend from 25-27 July 2025
DESCRIPTION:Enjoy three days of major savings on home and kitchen appliances. For more information, visit [ http://singpromos.com/warehouse-sales/mayer-warehouse-sale-returns-with-up-to-85-off-this-weekend-from-25-27-july-2025-292110/ ]. 
LOCATION:280 Bukit Batok East Avenue 3, 650280
URL:http://singpromos.com/warehouse-sales/mayer-warehouse-sale-returns-with-up-to-85-off-this-weekend-from-25-27-july-2025-292110/
END:VEVENT
END:VCALENDAR