BEGIN:VCALENDAR
PRODID:-//SINGPromos.com//NONSGML v1.0//EN
VERSION:2.0
CALSCALE:GREGORIAN
METHOD:PUBLISH
X-WR-CALNAME:SINGPromos.com
X-ORIGINAL-URL:http://singpromos.com
X-WR-CALDESC:Events for SINGPromos.com
BEGIN:VEVENT
DTSTART:20250806T000000
DTEND:20250812T235900
DTSTAMP:20260422T042006
CREATED:20250804T150518
LAST-MODIFIED:20250730T181610
UID:292384@http://singpromos.com
SUMMARY:StarHub TV subscribers enjoy free preview of over 90 TV channels from 6 - 12 Aug 2025
DESCRIPTION:Celebrate SG60 with StarHub TV's free preview of over 90 channels. For more information, visit [ http://singpromos.com/telecoms/starhub-tv-subscribers-enjoy-free-preview-of-over-90-tv-channels-from-6-12-aug-2025-292384/ ]. 
LOCATION:
URL:http://singpromos.com/telecoms/starhub-tv-subscribers-enjoy-free-preview-of-over-90-tv-channels-from-6-12-aug-2025-292384/
END:VEVENT
END:VCALENDAR