BEGIN:VCALENDAR
PRODID:-//SINGPromos.com//NONSGML v1.0//EN
VERSION:2.0
CALSCALE:GREGORIAN
METHOD:PUBLISH
X-WR-CALNAME:SINGPromos.com
X-ORIGINAL-URL:http://singpromos.com
X-WR-CALDESC:Events for SINGPromos.com
BEGIN:VEVENT
DTSTART:20250801T000000
DTEND:20250802T235900
DTSTAMP:20260420T031308
CREATED:20250731T165748
LAST-MODIFIED:20250731T150715
UID:292404@http://singpromos.com
SUMMARY:Serta Mattress Mega Warehouse Sale Slashes Prices by Up to 90% This 1-2 August 2025
DESCRIPTION:Serta's massive warehouse sale returns with up to 90% off mattresses. For more information, visit [ http://singpromos.com/warehouse-sales/serta-mattress-mega-warehouse-sale-slashes-prices-by-up-to-90-this-1-2-august-2025-292404/ ]. 
LOCATION:637014
URL:http://singpromos.com/warehouse-sales/serta-mattress-mega-warehouse-sale-slashes-prices-by-up-to-90-this-1-2-august-2025-292404/
END:VEVENT
END:VCALENDAR