BEGIN:VCALENDAR
PRODID:-//SINGPromos.com//NONSGML v1.0//EN
VERSION:2.0
CALSCALE:GREGORIAN
METHOD:PUBLISH
X-WR-CALNAME:SINGPromos.com
X-ORIGINAL-URL:http://singpromos.com
X-WR-CALDESC:Events for SINGPromos.com
BEGIN:VEVENT
DTSTART:20250901T000000
DTEND:20250907T235900
DTSTAMP:20260420T031300
CREATED:20250902T011144
LAST-MODIFIED:20250903T145519
UID:293344@http://singpromos.com
SUMMARY:Mayer & Mistral Hougang RiverCourt Showroom Closing Down Sale till 7 Sep 2025
DESCRIPTION:Get up to 75% OFF Mayer & Mistral appliances. For more information, visit [ http://singpromos.com/warehouse-sales/mayer-mistral-hougang-rivercourt-showroom-closing-down-sale-till-7-sep-2025-293344/ ]. 
LOCATION:530377
URL:http://singpromos.com/warehouse-sales/mayer-mistral-hougang-rivercourt-showroom-closing-down-sale-till-7-sep-2025-293344/
END:VEVENT
END:VCALENDAR