BEGIN:VCALENDAR
PRODID:-//SINGPromos.com//NONSGML v1.0//EN
VERSION:2.0
CALSCALE:GREGORIAN
METHOD:PUBLISH
X-WR-CALNAME:SINGPromos.com
X-ORIGINAL-URL:http://singpromos.com
X-WR-CALDESC:Events for SINGPromos.com
BEGIN:VEVENT
DTSTART:20250902T000000
DTEND:20250907T235900
DTSTAMP:20260419T223454
CREATED:20250902T155000
LAST-MODIFIED:20250902T160649
UID:293440@http://singpromos.com
SUMMARY:Scoot S'pore "Everywhere Sale" Has Fares fr S$70 to over 70 destinations until 7 Sep 2025
DESCRIPTION:Fly to over 70 destinations worldwide, travel up to Aug 2026. For more information, visit [ http://singpromos.com/airlines-flights/scoot-spore-everywhere-sale-has-fares-fr-s70-to-over-70-destinations-until-7-sep-2025-293440/ ]. 
LOCATION:
URL:http://singpromos.com/airlines-flights/scoot-spore-everywhere-sale-has-fares-fr-s70-to-over-70-destinations-until-7-sep-2025-293440/
END:VEVENT
END:VCALENDAR