BEGIN:VCALENDAR
PRODID:-//SINGPromos.com//NONSGML v1.0//EN
VERSION:2.0
CALSCALE:GREGORIAN
METHOD:PUBLISH
X-WR-CALNAME:SINGPromos.com
X-ORIGINAL-URL:http://singpromos.com
X-WR-CALDESC:Events for SINGPromos.com
BEGIN:VEVENT
DTSTART:20250905T000000
DTEND:20250914T235900
DTSTAMP:20260420T012401
CREATED:20250905T021011
LAST-MODIFIED:20250904T222107
UID:293539@http://singpromos.com
SUMMARY:B2K Pet Care Warehouse Sale offers up to 90% off from 5 - 14 Sep 2025
DESCRIPTION:Score great deals on pet food, toys, grooming items, and more at the B2K Pet Care Sale. For more information, visit [ http://singpromos.com/warehouse-sales/b2k-pet-care-warehouse-sale-offers-up-to-90-off-from-5-14-sep-2025-293539/ ]. 
LOCATION:15 Yishun Industrial Street 1, 768091
URL:http://singpromos.com/warehouse-sales/b2k-pet-care-warehouse-sale-offers-up-to-90-off-from-5-14-sep-2025-293539/
END:VEVENT
END:VCALENDAR