BEGIN:VCALENDAR
PRODID:-//SINGPromos.com//NONSGML v1.0//EN
VERSION:2.0
CALSCALE:GREGORIAN
METHOD:PUBLISH
X-WR-CALNAME:SINGPromos.com
X-ORIGINAL-URL:http://singpromos.com
X-WR-CALDESC:Events for SINGPromos.com
BEGIN:VEVENT
DTSTART:20250923T000000
DTEND:20250924T235900
DTSTAMP:20260420T012336
CREATED:20250920T163056
LAST-MODIFIED:20250920T163203
UID:294090@http://singpromos.com
SUMMARY:Starbucks S'pore Clearance Sale at The Concourse from 23 - 24 Sep 2025
DESCRIPTION:Shop exclusive Starbucks merch at clearance prices. For more information, visit [ http://singpromos.com/warehouse-sales/starbucks-spore-clearance-sale-at-the-concourse-from-23-24-sep-2025-294090/ ]. 
LOCATION:300 Beach Road, 199555
URL:http://singpromos.com/warehouse-sales/starbucks-spore-clearance-sale-at-the-concourse-from-23-24-sep-2025-294090/
END:VEVENT
END:VCALENDAR