BEGIN:VCALENDAR
PRODID:-//SINGPromos.com//NONSGML v1.0//EN
VERSION:2.0
CALSCALE:GREGORIAN
METHOD:PUBLISH
X-WR-CALNAME:SINGPromos.com
X-ORIGINAL-URL:http://singpromos.com
X-WR-CALDESC:Events for SINGPromos.com
BEGIN:VEVENT
DTSTART:20251010T000000
DTEND:20251012T235900
DTSTAMP:20260420T012402
CREATED:20251008T150030
LAST-MODIFIED:20251011T115200
UID:294726@http://singpromos.com
SUMMARY:Le Creuset Singapore Family Sale Returns from 10 - 12 Oct 2025
DESCRIPTION:Get up to 80% off premium French cookware. For more information, visit [ http://singpromos.com/warehouse-sales/le-creuset-singapore-family-sale-returns-from-10-12-oct-2025-294726/ ]. 
LOCATION:039593
URL:http://singpromos.com/warehouse-sales/le-creuset-singapore-family-sale-returns-from-10-12-oct-2025-294726/
END:VEVENT
END:VCALENDAR