BEGIN:VCALENDAR
PRODID:-//SINGPromos.com//NONSGML v1.0//EN
VERSION:2.0
CALSCALE:GREGORIAN
METHOD:PUBLISH
X-WR-CALNAME:SINGPromos.com
X-ORIGINAL-URL:http://singpromos.com
X-WR-CALDESC:Events for SINGPromos.com
BEGIN:VEVENT
DTSTART:20251018T000000
DTEND:20251019T235900
DTSTAMP:20260420T012402
CREATED:20251017T195201
LAST-MODIFIED:20251017T195217
UID:295075@http://singpromos.com
SUMMARY:Starbucks S'pore Merchandise Sale at Bedok Mall (18–19 Oct 2025, Sat–Sun)
DESCRIPTION:Two-day Starbucks merch sale at Bedok Mall. For more information, visit [ http://singpromos.com/warehouse-sales/starbucks-spore-merchandise-sale-at-bedok-mall-18-19-oct-2025-sat-sun-295075/ ]. 
LOCATION:311 New Upper Changi Road, 467360
URL:http://singpromos.com/warehouse-sales/starbucks-spore-merchandise-sale-at-bedok-mall-18-19-oct-2025-sat-sun-295075/
END:VEVENT
END:VCALENDAR