BEGIN:VCALENDAR
PRODID:-//SINGPromos.com//NONSGML v1.0//EN
VERSION:2.0
CALSCALE:GREGORIAN
METHOD:PUBLISH
X-WR-CALNAME:SINGPromos.com
X-ORIGINAL-URL:http://singpromos.com
X-WR-CALDESC:Events for SINGPromos.com
BEGIN:VEVENT
DTSTART:20251025T000000
DTEND:20251026T235900
DTSTAMP:20260420T012335
CREATED:20251025T130347
LAST-MODIFIED:20251025T130347
UID:295230@http://singpromos.com
SUMMARY:Starbucks Merchandise Clearance Sale at Keat Hong CC (25 & 26 October, 9AM to 9PM)
DESCRIPTION:Two-day west-side clearance at Keat Hong CC. For more information, visit [ http://singpromos.com/warehouse-sales/starbucks-merchandise-clearance-sale-at-keat-hong-cc-25-26-october-9am-to-9pm-295230/ ]. 
LOCATION:689687
URL:http://singpromos.com/warehouse-sales/starbucks-merchandise-clearance-sale-at-keat-hong-cc-25-26-october-9am-to-9pm-295230/
END:VEVENT
END:VCALENDAR