BEGIN:VCALENDAR
PRODID:-//SINGPromos.com//NONSGML v1.0//EN
VERSION:2.0
CALSCALE:GREGORIAN
METHOD:PUBLISH
X-WR-CALNAME:SINGPromos.com
X-ORIGINAL-URL:http://singpromos.com
X-WR-CALDESC:Events for SINGPromos.com
BEGIN:VEVENT
DTSTART:20251106T000000
DTEND:20251109T235900
DTSTAMP:20260419T233434
CREATED:20251031T142536
LAST-MODIFIED:20251031T142536
UID:295349@http://singpromos.com
SUMMARY:Skechers Warehouse Sale Up to 90% Off from 6 - 9 Nov 2025
DESCRIPTION:Accessories from $5, footwear from $10, apparel from $15 and more. For more information, visit [ http://singpromos.com/warehouse-sales/skechers-warehouse-sale-up-to-90-off-from-6-9-nov-2025-295349/ ]. 
LOCATION:45 Ubi Road 1, 408696
URL:http://singpromos.com/warehouse-sales/skechers-warehouse-sale-up-to-90-off-from-6-9-nov-2025-295349/
END:VEVENT
END:VCALENDAR