BEGIN:VCALENDAR
PRODID:-//SINGPromos.com//NONSGML v1.0//EN
VERSION:2.0
CALSCALE:GREGORIAN
METHOD:PUBLISH
X-WR-CALNAME:SINGPromos.com
X-ORIGINAL-URL:http://singpromos.com
X-WR-CALDESC:Events for SINGPromos.com
BEGIN:VEVENT
DTSTART:20251113T000000
DTEND:20251116T235900
DTSTAMP:20260419T233438
CREATED:20251111T153932
LAST-MODIFIED:20251101T194705
UID:295392@http://singpromos.com
SUMMARY:Arena Warehouse Sale Up to 80% off swimwear from 13-16 Nov 2025
DESCRIPTION:Score kids, ladies' and men's Arena swimwear at up to 80% OFF. For more information, visit [ http://singpromos.com/warehouse-sales/arena-warehouse-sale-up-to-80-off-swimwear-from-13-16-nov-2025-295392/ ]. 
LOCATION:159555
URL:http://singpromos.com/warehouse-sales/arena-warehouse-sale-up-to-80-off-swimwear-from-13-16-nov-2025-295392/
END:VEVENT
END:VCALENDAR